BEGIN:VCALENDAR
VERSION:2.0
PRODID:-//Squarespace Inc/Squarespace 6//v6//EN
BEGIN:VEVENT
UID:57d9f13ebe65946d7040f858@squarespace.com
DTSTAMP:20160915T010001Z
DTSTART:20161010T200000Z
DTEND:20161013T050000Z
SUMMARY:IBM Cognos Disclosure Management Full User Training
GEO:-36.850532;174.782592
LOCATION:Mindfull\, Level 4\, 1 Kenwyn Street\, Parnell\, Auckland
END:VEVENT
END:VCALENDAR
