BEGIN:VCALENDAR
VERSION:2.0
PRODID:-//Squarespace Inc/Squarespace 6//v6//EN
BEGIN:VEVENT
UID:57d9f2a8b8a79b526cbc9750@squarespace.com
DTSTAMP:20160915T010528Z
DTSTART:20161013T200000Z
DTEND:20161014T050000Z
SUMMARY:IBM Cognos Disclosure Management Reviewer Training 
GEO:-36.850532;174.782592
LOCATION:Mindfull\, Level 4\, 1 Kenwyn Street\, Parnell\, Auckland
END:VEVENT
END:VCALENDAR
