BEGIN:VCALENDAR
VERSION:2.0
PRODID:-//Squarespace Inc/Squarespace 6//v6//EN
BEGIN:VEVENT
UID:57d9f5616a49631b7952dedf@squarespace.com
DTSTAMP:20160915T011558Z
DTSTART:20161017T200000Z
DTEND:20161018T000000Z
SUMMARY:IBM Cognos Express Administrator Training
GEO:-36.850532;174.782592
LOCATION:Mindfull\, Level 4\, 1 Kenwyn Street\, Parnell\, Auckland
END:VEVENT
END:VCALENDAR
