BEGIN:VCALENDAR
VERSION:2.0
PRODID:-//Squarespace Inc/Squarespace 6//v6//EN
BEGIN:VEVENT
UID:57d9f3f0197aea1f4b1e098b@squarespace.com
DTSTAMP:20160915T011035Z
DTSTART:20161017T200000Z
DTEND:20161019T000000Z
SUMMARY:IBM Cognos Express Intro to Report Authoring 
GEO:-36.854065;174.779879
LOCATION:Mindfull\, Level 4\, 1 Kenywn Street\, Parnell\, Auckland
END:VEVENT
END:VCALENDAR
