BEGIN:VCALENDAR
VERSION:2.0
PRODID:-//Squarespace Inc/Squarespace 6//v6//EN
BEGIN:VEVENT
UID:57d9f873e6f2e157dbe4b0da@squarespace.com
DTSTAMP:20160915T013119Z
DTSTART:20161024T200000Z
DTEND:20161025T000000Z
SUMMARY:IBM Cognos TM1 Training Introduction
GEO:-36.850532;174.782592
LOCATION:Mindfull\, Level 4\, 1 Kenwyn Street\, Parnell\, Auckland
END:VEVENT
END:VCALENDAR
