BEGIN:VCALENDAR
VERSION:2.0
PRODID:-//Squarespace Inc/Squarespace 6//v6//EN
BEGIN:VEVENT
UID:57d9f9246b8f5b4e718d90ba@squarespace.com
DTSTAMP:20160915T013031Z
DTSTART:20161025T200000Z
DTEND:20161026T050000Z
SUMMARY:IBM Cognos TM1 Advanced Training 
GEO:-36.850532;174.782592
LOCATION:Mindfull\, Level 4\, 1 Kenwyn Street\, Parnell\, Auckland
END:VEVENT
END:VCALENDAR
