BEGIN:VCALENDAR
VERSION:2.0
PRODID:-//Squarespace Inc/Squarespace 6//v6//EN
BEGIN:VEVENT
UID:57d9d9a28419c23a9b7c22da@squarespace.com
DTSTAMP:20160915T001441Z
DTSTART:20161003T200000Z
DTEND:20161004T000000Z
SUMMARY:IBM Cognos TM1 Introduction Training 
GEO:-36.850149;174.783358
LOCATION:Mindfull\, Level 4\, 1 Kenwyn Street\, Auckland
END:VEVENT
END:VCALENDAR
