BEGIN:VCALENDAR
VERSION:2.0
PRODID:-//Squarespace Inc/Squarespace 6//v6//EN
BEGIN:VEVENT
UID:57d9e3ea579fb3865dfe7a24@squarespace.com
DTSTAMP:20160915T001229Z
DTSTART:20161004T200000Z
DTEND:20161005T050000Z
SUMMARY:IBM Cognos TM1 Advanced Training 
GEO:-36.84846;174.763332
LOCATION:Mindfull\, Level 4\, 1 Kenywn Street\, Auckland
END:VEVENT
END:VCALENDAR
