BEGIN:VCALENDAR
VERSION:2.0
PRODID:-//Squarespace Inc/Squarespace 6//v6//EN
BEGIN:VEVENT
UID:57d9e82b03596e21e4250a33@squarespace.com
DTSTAMP:20160915T002509Z
DTSTART:20161005T200000Z
DTEND:20161006T050000Z
SUMMARY:IBM Cognos TM1 Server Rules Training
GEO:-36.850532;174.782592
LOCATION:Mindfull\, Level 4\, 1 Kenwyn Street\, Auckland
END:VEVENT
END:VCALENDAR
