BEGIN:VCALENDAR
VERSION:2.0
PRODID:-//Squarespace Inc/Squarespace 6//v6//EN
BEGIN:VEVENT
UID:57d9ea9cebbd1a233e133237@squarespace.com
DTSTAMP:20160915T005354Z
DTSTART:20161006T200000Z
DTEND:20161007T050000Z
SUMMARY:IBM Cognos TM1 Turbo Integrator Training 
GEO:-36.84846;174.763332
LOCATION:Mindfull\, Level 4\, 1 Kenywn Street\, Auckland
END:VEVENT
END:VCALENDAR
