BEGIN:VCALENDAR
VERSION:2.0
PRODID:-//Squarespace Inc/Squarespace 6//v6//EN
BEGIN:VEVENT
UID:5a09069953450af07ccde015@squarespace.com
DTSTAMP:20171113T193554Z
DTSTART:20171120T200000Z
DTEND:20171123T040000Z
SUMMARY:AKL: Full CDM Author and Administration Training
GEO:-36.85036;174.782774
LOCATION:Mindfull\, Level 4\, 1 Kenwyn Street\, Parnell\, Auckland\, New Ze
 aland
END:VEVENT
END:VCALENDAR
