BEGIN:VCALENDAR
VERSION:2.0
PRODID:-//Squarespace Inc/Squarespace 6//v6//EN
BEGIN:VEVENT
UID:5a0908e7ec212d1131aa975b@squarespace.com
DTSTAMP:20171113T193500Z
DTSTART:20171123T200000Z
DTEND:20171124T050000Z
SUMMARY:AKL: CDM Reviewer Training
GEO:-36.85036;174.782774
LOCATION:Mindfull\, Level 4\, 1 Kenwyn Street\, Parnell\, Auckland\, New Ze
 aland
END:VEVENT
END:VCALENDAR
