BEGIN:VCALENDAR
VERSION:2.0
PRODID:-//Squarespace Inc/Squarespace 6//v6//EN
BEGIN:VEVENT
UID:5a090b450d929719782949ae@squarespace.com
DTSTAMP:20171113T194601Z
DTSTART:20171127T200000Z
DTEND:20171128T000000Z
SUMMARY:AKL: TM1 Introduction Training
GEO:-36.85036;174.782774
LOCATION:Mindfull\, Level 4\, 1 Kenwyn Street\, Parnell\, Auckland\, New Ze
 aland
END:VEVENT
END:VCALENDAR
