BEGIN:VCALENDAR
VERSION:2.0
PRODID:-//Squarespace Inc/Squarespace 6//v6//EN
BEGIN:VEVENT
UID:5a090dc9e2c483d6cb954676@squarespace.com
DTSTAMP:20171113T194614Z
DTSTART:20171127T200000Z
DTEND:20171128T000000Z
SUMMARY:WLG: TM1 Introduction Training
GEO:-41.290424;174.775604
LOCATION:Mindfull\, Level 9\, 50 Manners Street\, Wellington\, New Zealand
END:VEVENT
END:VCALENDAR
