BEGIN:VCALENDAR
VERSION:2.0
PRODID:-//Squarespace Inc/Squarespace 6//v6//EN
BEGIN:VEVENT
UID:5a090c37085229359d964035@squarespace.com
DTSTAMP:20171113T194912Z
DTSTART:20171128T200000Z
DTEND:20171129T050000Z
SUMMARY:AKL: TM1 Advanced Training
GEO:-36.85036;174.782774
LOCATION:Mindfull\, Level 4\, 1 Kenwyn Street\, Parnell\, Auckland\, New Ze
 aland
END:VEVENT
END:VCALENDAR
