BEGIN:VCALENDAR
VERSION:2.0
PRODID:-//Squarespace Inc/Squarespace 6//v6//EN
BEGIN:VEVENT
UID:5a090e31085229359d969859@squarespace.com
DTSTAMP:20171113T194836Z
DTSTART:20171128T200000Z
DTEND:20171129T050000Z
SUMMARY:WLG: TM1 Advanced Training
GEO:-41.290424;174.775604
LOCATION:Mindfull\, Level 9\, 50 Manners Street\, Wellington\, New Zealand
END:VEVENT
END:VCALENDAR
