BEGIN:VCALENDAR
VERSION:2.0
PRODID:-//Squarespace Inc/Squarespace 6//v6//EN
BEGIN:VEVENT
UID:5a090e85ec212d1131ab9cdb@squarespace.com
DTSTAMP:20171113T194941Z
DTSTART:20171204T200000Z
DTEND:20171205T000000Z
SUMMARY:WLG: TM1 Intro: Planning Analytics Workspace and Report Authoring
GEO:-41.290424;174.775604
LOCATION:Mindfull\, Level 9\, 50 Manners Street\, Wellington\, New Zealand
END:VEVENT
END:VCALENDAR
