BEGIN:VCALENDAR
VERSION:2.0
PRODID:-//Squarespace Inc/Squarespace 6//v6//EN
BEGIN:VEVENT
UID:5a0910f10d929719782a4994@squarespace.com
DTSTAMP:20171113T195039Z
DTSTART:20171205T200000Z
DTEND:20171206T000000Z
SUMMARY:WLG: TM1 Intro: Planning Analytics for Excel 
GEO:-41.290424;174.775604
LOCATION:Mindfull\, Level 9\, 50 Manners Street\, Wellington\, New Zealand
END:VEVENT
END:VCALENDAR
