BEGIN:VCALENDAR
VERSION:2.0
PRODID:-//Squarespace Inc/Squarespace 6//v6//EN
BEGIN:VEVENT
UID:5a0910730d929719782a3365@squarespace.com
DTSTAMP:20171113T195208Z
DTSTART:20171211T200000Z
DTEND:20171212T000000Z
SUMMARY:AKL: TM1 Intro: Planning Analytics Workspace and Report Authoring
GEO:-36.85036;174.782774
LOCATION:Mindfull\, Level 4\, 1 Kenwyn Street\, Parnell\, Auckland\, New Ze
 aland
END:VEVENT
END:VCALENDAR
