BEGIN:VCALENDAR
VERSION:2.0
PRODID:-//Squarespace Inc/Squarespace 6//v6//EN
BEGIN:VEVENT
UID:5a0911c3ec212d1131ac2f40@squarespace.com
DTSTAMP:20171113T195344Z
DTSTART:20171212T200000Z
DTEND:20171213T000000Z
SUMMARY:AKL: TM1 Intro: Planning Analytics for Excel 
GEO:-36.85036;174.782774
LOCATION:Mindfull\, Level 4\, 1 Kenwyn Street\, Parnell\, Auckland\, New Ze
 aland
END:VEVENT
END:VCALENDAR
