BEGIN:VCALENDAR
VERSION:2.0
PRODID:-//Squarespace Inc/Squarespace 6//v6//EN
BEGIN:VEVENT
UID:5b18b9820e2e721b4210ce36@squarespace.com
DTSTAMP:20180607T215903Z
DTSTART:20180628T210000Z
DTEND:20180629T010000Z
SUMMARY:AKL: Intro: Planning Analytics for Excel
GEO:-41.28646;174.776236
LOCATION:Mindfull\, Textile Centre Unit 5\, Level 4\, 1 Kenwyn Street\, Auc
 kland\, New Zealand
END:VEVENT
END:VCALENDAR
