BEGIN:VCALENDAR
VERSION:2.0
PRODID:-//Squarespace Inc/Squarespace 6//v6//EN
BEGIN:VEVENT
UID:5b18b865758d46290039a1c2@squarespace.com
DTSTAMP:20180607T220014Z
DTSTART:20180628T210000Z
DTEND:20180629T010000Z
SUMMARY:WLG: Intro: Planning Analytics for Excel
GEO:-41.28646;174.776236
LOCATION:Mindfull\, Level 10\, 50 Manners Street\, Te Aro\, Wellington\, Ne
 w Zealand
END:VEVENT
END:VCALENDAR
