BEGIN:VCALENDAR
VERSION:2.0
PRODID:-//Squarespace Inc/Squarespace 6//v6//EN
BEGIN:VEVENT
UID:5b18b7ca562fa7c61be635e5@squarespace.com
DTSTAMP:20180608T024117Z
DTSTART:20180621T210000Z
DTEND:20180622T010000Z
SUMMARY:AKL: TM1 Intro: Planning Analytics Workspace and Reporting Authorin
 g
GEO:-41.28646;174.776236
LOCATION:Mindfull\, Textile Centre\, Unit 5\, Level 4\, 1 Kenwyn Street\, A
 uckland\, New Zealand
END:VEVENT
END:VCALENDAR
