BEGIN:VCALENDAR
VERSION:2.0
PRODID:-//Squarespace Inc/Squarespace 6//v6//EN
BEGIN:VEVENT
UID:5b18b5e670a6ad1603e4d73e@squarespace.com
DTSTAMP:20180607T215817Z
DTSTART:20180621T210000Z
DTEND:20180622T010000Z
SUMMARY:WLG: TM1 Intro: Planning Analytics Workspace and Reporting Authorin
 g
GEO:-41.290424;174.775604
LOCATION:Mindfull\, Level 10\, 50 Manners Street\, Wellington\, New Zealand
END:VEVENT
END:VCALENDAR
