BEGIN:VCALENDAR
VERSION:2.0
PRODID:-//Squarespace Inc/Squarespace 6//v6//EN
BEGIN:VEVENT
UID:5a0912989140b7f3b7b583cc@squarespace.com
DTSTAMP:20171113T195556Z
DTSTART:20180114T200000Z
DTEND:20180130T040000Z
SUMMARY:AKL + WLG: Onsite TM1 Refresher Training - available by appointment
GEO:-41.290424;174.775604
LOCATION:Mindfull\, Level 9\, 50 Manners Street\, Wellington\, New Zealand
END:VEVENT
END:VCALENDAR
