BEGIN:VCALENDAR
VERSION:2.0
PRODID:-//Squarespace Inc/Squarespace 6//v6//EN
BEGIN:VEVENT
UID:5a091227419202915094fcae@squarespace.com
DTSTAMP:20171113T195750Z
DTSTART:20180115T200000Z
DTEND:20180116T000000Z
SUMMARY:AKL: TM1 Introduction Training
GEO:-36.85036;174.782774
LOCATION:Mindfull\, Level 4\, 1 Kenwyn Street\, Parnell\, Auckland\, New Ze
 aland
END:VEVENT
END:VCALENDAR
