BEGIN:VCALENDAR
VERSION:2.0
PRODID:-//Squarespace Inc/Squarespace 6//v6//EN
BEGIN:VEVENT
UID:5a091495e2c483d6cb967ba1@squarespace.com
DTSTAMP:20171113T202833Z
DTSTART:20180130T200000Z
DTEND:20180131T000000Z
SUMMARY:AKL: TM1 Administrator Training
GEO:-36.85036;174.782774
LOCATION:Mindfull\, Level 4\, 1 Kenwyn Street\, Parnell\, Auckland\, New Ze
 aland
END:VEVENT
END:VCALENDAR
