BEGIN:VCALENDAR
VERSION:2.0
PRODID:-//Squarespace Inc/Squarespace 6//v6//EN
BEGIN:VEVENT
UID:5a0915e7419202915095a2ec@squarespace.com
DTSTAMP:20171113T200755Z
DTSTART:20180131T200000Z
DTEND:20180201T050000Z
SUMMARY:AKL: Dynamic Report Authoring Training
GEO:-36.85036;174.782774
LOCATION:Mindfull\, Level 4\, 1 Kenwyn Street\, Parnell\, Auckland\, New Ze
 aland
END:VEVENT
END:VCALENDAR
