BEGIN:VCALENDAR
VERSION:2.0
PRODID:-//Squarespace Inc/Squarespace 6//v6//EN
BEGIN:VEVENT
UID:5a09174bec212d1131ad2392@squarespace.com
DTSTAMP:20171113T200925Z
DTSTART:20180205T200000Z
DTEND:20180206T000000Z
SUMMARY:WLG: TM1 Introduction Training
GEO:-41.290424;174.775604
LOCATION:Mindfull\, Level 9\, 50 Manners Street\, Wellington\, New Zealand
END:VEVENT
END:VCALENDAR
