BEGIN:VCALENDAR
VERSION:2.0
PRODID:-//Squarespace Inc/Squarespace 6//v6//EN
BEGIN:VEVENT
UID:5a09176dec212d1131ad291c@squarespace.com
DTSTAMP:20171113T201623Z
DTSTART:20180206T200000Z
DTEND:20180207T050000Z
SUMMARY:WLG: TM1 Advanced Training
GEO:-41.290424;174.775604
LOCATION:Mindfull\, Level 9\, 50 Manners Street\, Wellington\, New Zealand
END:VEVENT
END:VCALENDAR
