BEGIN:VCALENDAR
VERSION:2.0
PRODID:-//Squarespace Inc/Squarespace 6//v6//EN
BEGIN:VEVENT
UID:5a09197c71c10b6a453862de@squarespace.com
DTSTAMP:20171113T231218Z
DTSTART:20180207T200000Z
DTEND:20180208T050000Z
SUMMARY:AKL: TM1 Rules Training
GEO:-36.85036;174.782774
LOCATION:Mindfull\, Level 4\, 1 Kenwyn Street\, Parnell\, Auckland\, New Ze
 aland
END:VEVENT
END:VCALENDAR
