BEGIN:VCALENDAR
VERSION:2.0
PRODID:-//Squarespace Inc/Squarespace 6//v6//EN
BEGIN:VEVENT
UID:5a09179f24a6942e840509e1@squarespace.com
DTSTAMP:20171113T202034Z
DTSTART:20180212T200000Z
DTEND:20180215T040000Z
SUMMARY:AKL: Full CDM Author and Administration Training
GEO:-36.85036;174.782774
LOCATION:Mindfull\, Level 4\, 1 Kenwyn Street\, Parnell\, Auckland\, New Ze
 aland
END:VEVENT
END:VCALENDAR
