BEGIN:VCALENDAR
VERSION:2.0
PRODID:-//Squarespace Inc/Squarespace 6//v6//EN
BEGIN:VEVENT
UID:5a0917c80d929719782b7a07@squarespace.com
DTSTAMP:20171113T202149Z
DTSTART:20180215T200000Z
DTEND:20180216T050000Z
SUMMARY:AKL: CDM Reviewer Training
GEO:-36.85036;174.782774
LOCATION:Mindfull\, Level 4\, 1 Kenwyn Street\, Parnell\, Auckland\, New Ze
 aland
END:VEVENT
END:VCALENDAR
