BEGIN:VCALENDAR
VERSION:2.0
PRODID:-//Squarespace Inc/Squarespace 6//v6//EN
BEGIN:VEVENT
UID:5a0917ebc83025174d250d26@squarespace.com
DTSTAMP:20171113T202241Z
DTSTART:20180220T200000Z
DTEND:20180221T000000Z
SUMMARY:WLG: TM1 Intro: Planning Analytics Workspace and Report Authoring
GEO:-41.290424;174.775604
LOCATION:Mindfull\, Level 9\, 50 Manners Street\, Wellington\, New Zealand
END:VEVENT
END:VCALENDAR
