BEGIN:VCALENDAR
VERSION:2.0
PRODID:-//Squarespace Inc/Squarespace 6//v6//EN
BEGIN:VEVENT
UID:5a09187c71c10b6a4538347f@squarespace.com
DTSTAMP:20171113T202513Z
DTSTART:20180221T200000Z
DTEND:20180222T000000Z
SUMMARY:AKL: TM1 Intro: Planning Analytics for Excel 
GEO:-36.85036;174.782774
LOCATION:Mindfull\, Level 4\, 1 Kenwyn Street\, Parnell\, Auckland\, New Ze
 aland
END:VEVENT
END:VCALENDAR
