BEGIN:VCALENDAR
VERSION:2.0
PRODID:-//Squarespace Inc/Squarespace 6//v6//EN
BEGIN:VEVENT
UID:5a091821085229359d9852e1@squarespace.com
DTSTAMP:20171113T202807Z
DTSTART:20180221T200000Z
DTEND:20180222T000000Z
SUMMARY:WLG: TM1 Intro: Planning Analytics for Excel 
GEO:-41.290424;174.775604
LOCATION:Mindfull\, Level 9\, 50 Manners Street\, Wellington\, New Zealand
END:VEVENT
END:VCALENDAR
