BEGIN:VCALENDAR
VERSION:2.0
PRODID:-//Squarespace Inc/Squarespace 6//v6//EN
BEGIN:VEVENT
UID:5a0918de9140b7f3b7b69a10@squarespace.com
DTSTAMP:20171113T202948Z
DTSTART:20180305T200000Z
DTEND:20180306T000000Z
SUMMARY:WLG: TM1 Administrator Training
GEO:-41.290424;174.775604
LOCATION:Mindfull\, Level 9\, 50 Manners Street\, Wellington\, New Zealand
END:VEVENT
END:VCALENDAR
