BEGIN:VCALENDAR
VERSION:2.0
PRODID:-//Squarespace Inc/Squarespace 6//v6//EN
BEGIN:VEVENT
UID:5a09192d8165f515506c9d0a@squarespace.com
DTSTAMP:20171113T203346Z
DTSTART:20180306T200000Z
DTEND:20180307T050000Z
SUMMARY:WLG: Dynamic Report Authoring Training
GEO:-41.290424;174.775604
LOCATION:Mindfull\, Level 9\, 50 Manners Street\, Wellington\, New Zealand
END:VEVENT
END:VCALENDAR
