BEGIN:VCALENDAR
VERSION:2.0
PRODID:-//Squarespace Inc/Squarespace 6//v6//EN
BEGIN:VEVENT
UID:5a091ac8e4966b7f02bfacdd@squarespace.com
DTSTAMP:20171113T203532Z
DTSTART:20180319T200000Z
DTEND:20180320T050000Z
SUMMARY:AKL: TM1 Turbo Integrator Training
GEO:-36.85036;174.782774
LOCATION:Mindfull\, Level 4\, 1 Kenwyn Street\, Parnell\, Auckland\, New Ze
 aland
END:VEVENT
END:VCALENDAR
