BEGIN:VCALENDAR
VERSION:2.0
PRODID:-//Squarespace Inc/Squarespace 6//v6//EN
BEGIN:VEVENT
UID:5a091c6e652deab98d74a5ae@squarespace.com
DTSTAMP:20171113T203629Z
DTSTART:20180320T200000Z
DTEND:20180321T050000Z
SUMMARY:WLG: TM1 Turbo Integrator Training
GEO:-41.290424;174.775604
LOCATION:Mindfull\, Level 9\, 50 Manners Street\, Wellington\, New Zealand
END:VEVENT
END:VCALENDAR
