BEGIN:VCALENDAR
VERSION:2.0
PRODID:-//Squarespace Inc/Squarespace 6//v6//EN
BEGIN:VEVENT
UID:5727c6bb62cd94f9030d9efa@squarespace.com
DTSTAMP:20160915T001402Z
DTSTART:20160801T210000Z
DTEND:20160802T060000Z
SUMMARY:IBM Cognos TM1 Advanced Training
GEO:-36.850532;174.782592
LOCATION:Mindfull\, Level 4\, 1 Kenwyn Street\, Auckland\, Auckland\, 1052\
 , New Zealand
END:VEVENT
END:VCALENDAR
