BEGIN:VCALENDAR
VERSION:2.0
PRODID:-//Squarespace Inc/Squarespace 6//v6//EN
BEGIN:VEVENT
UID:5727c53f20c64749621103eb@squarespace.com
DTSTAMP:20160615T041148Z
DTSTART:20160629T043000Z
DTEND:20160629T063000Z
SUMMARY:IBM Cognos TM1 Introduction Training
END:VEVENT
END:VCALENDAR
